BEGIN:VCALENDAR
VERSION:2.0
PRODID:-//Skyline Theatre Company - ECPv6.13.2.1//NONSGML v1.0//EN
CALSCALE:GREGORIAN
METHOD:PUBLISH
X-WR-CALNAME:Skyline Theatre Company
X-ORIGINAL-URL:https://skylinetheatrecompany.org
X-WR-CALDESC:Events for Skyline Theatre Company
REFRESH-INTERVAL;VALUE=DURATION:PT1H
X-Robots-Tag:noindex
X-PUBLISHED-TTL:PT1H
BEGIN:VTIMEZONE
TZID:America/New_York
BEGIN:DAYLIGHT
TZOFFSETFROM:-0500
TZOFFSETTO:-0400
TZNAME:EDT
DTSTART:20210314T070000
END:DAYLIGHT
BEGIN:STANDARD
TZOFFSETFROM:-0400
TZOFFSETTO:-0500
TZNAME:EST
DTSTART:20211107T060000
END:STANDARD
BEGIN:DAYLIGHT
TZOFFSETFROM:-0500
TZOFFSETTO:-0400
TZNAME:EDT
DTSTART:20220313T070000
END:DAYLIGHT
BEGIN:STANDARD
TZOFFSETFROM:-0400
TZOFFSETTO:-0500
TZNAME:EST
DTSTART:20221106T060000
END:STANDARD
BEGIN:DAYLIGHT
TZOFFSETFROM:-0500
TZOFFSETTO:-0400
TZNAME:EDT
DTSTART:20230312T070000
END:DAYLIGHT
BEGIN:STANDARD
TZOFFSETFROM:-0400
TZOFFSETTO:-0500
TZNAME:EST
DTSTART:20231105T060000
END:STANDARD
BEGIN:DAYLIGHT
TZOFFSETFROM:-0500
TZOFFSETTO:-0400
TZNAME:EDT
DTSTART:20240310T070000
END:DAYLIGHT
BEGIN:STANDARD
TZOFFSETFROM:-0400
TZOFFSETTO:-0500
TZNAME:EST
DTSTART:20241103T060000
END:STANDARD
BEGIN:DAYLIGHT
TZOFFSETFROM:-0500
TZOFFSETTO:-0400
TZNAME:EDT
DTSTART:20250309T070000
END:DAYLIGHT
BEGIN:STANDARD
TZOFFSETFROM:-0400
TZOFFSETTO:-0500
TZNAME:EST
DTSTART:20251102T060000
END:STANDARD
END:VTIMEZONE
BEGIN:VEVENT
DTSTART;VALUE=DATE:20251213
DTEND;VALUE=DATE:20251222
DTSTAMP:20260424T072035
CREATED:20250212T134718Z
LAST-MODIFIED:20251106T203419Z
UID:17713-1765584000-1766361599@skylinetheatrecompany.org
SUMMARY:Joy Meets Girl\,  a holiday play by Kimberly Hill
DESCRIPTION:Joy Meets Girl \na holiday play by Kimberly Hill \nSaturday Dec. 13th @ 7:00 & Sunday Dec. 14th @ 2:00 \nSaturday Dec. 20th @ 7:00 & Sunday Dec. 21st @ 2:00 \nA world premiere production of a new holiday play that celebrates finding your true bliss among family and friends during this joyous season\, written by playwright Kimberly Hill of TV’s Cheers\, Family Ties\, and The Facts of Life. \nApproximate running time 90 minutes plus intermission \nPurchase Tickets\n$25 general admission \n$20 seniors & students \n 
URL:https://skylinetheatrecompany.org/event/joy-meets-girl-a-holiday-play-by-kimberly-hill/
LOCATION:The Oakeside Bloomfield Cultural Center\, 240 Belleville Ave\, Bloomfield\, NJ\, 07003\, United States
CATEGORIES:Play
ATTACH;FMTTYPE=image/png:https://skylinetheatrecompany.org/wp-content/uploads/2025/01/Joy-Meets-Girl-logo.png
END:VEVENT
BEGIN:VEVENT
DTSTART;TZID=America/New_York:20251019T000000
DTEND;TZID=America/New_York:20251019T235959
DTSTAMP:20260424T072035
CREATED:20250212T134648Z
LAST-MODIFIED:20250301T184927Z
UID:17711-1760832000-1760918399@skylinetheatrecompany.org
SUMMARY:Celebrating the American Songbook
DESCRIPTION:Celebrating the American Songbook featuring Michele McConnell & Duane McDevitt \nSunday October 19th @ 2:00                                                                                        \nBroadway singers Michele McConnell and Duane McDevitt return to the Skyline stage for a musical performance featuring some of the greatest tunes from the Great American Songbook. \nPurchase Tickets\n$25 general admission \n$20 seniors & students
URL:https://skylinetheatrecompany.org/event/celebrating-the-american-songbook/
LOCATION:The Oakeside Bloomfield Cultural Center\, 240 Belleville Ave\, Bloomfield\, NJ\, 07003\, United States
CATEGORIES:concert
ATTACH;FMTTYPE=image/png:https://skylinetheatrecompany.org/wp-content/uploads/2025/01/Celebrating-the-American-Songbook-logo.png
END:VEVENT
BEGIN:VEVENT
DTSTART;VALUE=DATE:20250502
DTEND;VALUE=DATE:20250511
DTSTAMP:20260424T072035
CREATED:20250212T134554Z
LAST-MODIFIED:20250214T183322Z
UID:17707-1746144000-1746921599@skylinetheatrecompany.org
SUMMARY:Fully Committed\, a comedy by Becky Mode
DESCRIPTION:Fully Committed a comedy by Becky Mode \n“…immensely entertaining!” says The New York Times about this sidesplitting comedy following the day in the life of an out-of-work actor fielding reservations for Manhattan’s top restaurant. One actor portrays 40 roles in this touching chef’s kiss of a play. \nFriday May 2nd @ 7:00 & Saturday May 3rdth @ 2:00 \nFriday May 9th @ 7:00 & Saturday May 10th @ 2:00 \nPurchase Tickets\n$25 general admission \n$20 senior & students
URL:https://skylinetheatrecompany.org/event/fully-committed-a-comedy-by-becky-mode/
LOCATION:Little Theatre\, 90 Broad Street\, Bloomfield\, New Jersey\, 07003
CATEGORIES:Play
ATTACH;FMTTYPE=image/png:https://skylinetheatrecompany.org/wp-content/uploads/2025/01/Fully-Committed-logo.png
END:VEVENT
BEGIN:VEVENT
DTSTART;VALUE=DATE:20250426
DTEND;VALUE=DATE:20250427
DTSTAMP:20260424T072035
CREATED:20250212T134528Z
LAST-MODIFIED:20250214T183356Z
UID:17705-1745625600-1745711999@skylinetheatrecompany.org
SUMMARY:The Tenors; A Tribute featuring Timothy Liam Smith
DESCRIPTION:The Tenors; A Tribute featuring Timothy Liam Smith \nInternationally renowned tenor Timothy Liam Smith performs everything from Broadway to Opera to the American Standards with a silvery voice akin to The Three Tenors and The Irish Tenors. \nSaturday April 26th @ 2pm \nPurchase Tickets\n$25 general admission \n$20 seniors and students
URL:https://skylinetheatrecompany.org/event/the-tenors-a-tribute-featuring-timothy-liam-smith/
LOCATION:The Oakeside Bloomfield Cultural Center\, 240 Belleville Ave\, Bloomfield\, NJ\, 07003\, United States
CATEGORIES:concert
ATTACH;FMTTYPE=image/png:https://skylinetheatrecompany.org/wp-content/uploads/2025/01/The-Tenors-a-Tribute-logo.png
END:VEVENT
BEGIN:VEVENT
DTSTART;VALUE=DATE:20250322
DTEND;VALUE=DATE:20250324
DTSTAMP:20260424T072035
CREATED:20250212T134454Z
LAST-MODIFIED:20250214T183433Z
UID:17693-1742601600-1742774399@skylinetheatrecompany.org
SUMMARY:Payasita By Colin McLaughlin and Fernanda Douglas
DESCRIPTION:Broadway in the Works – Payasita by Colin McLaughlin & Fernanda Douglas \nA reading presentation of an original bilingual musical about family\, connection\, joy…and clowns! A family in rural Guatemala has the wackiest day ever when a bus full of clowns breaks down outside their restaurant. \n* This is a “pay what you can” event! Any and all donations are welcome and tax deductible. Due to limited seating\, reservations are required. \nMake a Reservation \nSaturday March 22nd @ 7pm \nSunday March 23rd @ 2pm
URL:https://skylinetheatrecompany.org/event/payasita-by-colin-mclaughlin-and-fernanda-douglas/
LOCATION:The Oakeside Bloomfield Cultural Center\, 240 Belleville Ave\, Bloomfield\, NJ\, 07003\, United States
CATEGORIES:Reading
ATTACH;FMTTYPE=image/png:https://skylinetheatrecompany.org/wp-content/uploads/2025/01/Payasita-logo.png
END:VEVENT
BEGIN:VEVENT
DTSTART;TZID=America/New_York:20241215T160000
DTEND;TZID=America/New_York:20241215T173000
DTSTAMP:20260424T072035
CREATED:20240115T184715Z
LAST-MODIFIED:20240223T145326Z
UID:17520-1734278400-1734283800@skylinetheatrecompany.org
SUMMARY:Holiday Songs and Stories
DESCRIPTION:The holiday season isn’t complete without a jolly fun and musical afternoon of sing-alongs\, carols\, and holiday stories. Suitable for kids from 1 to 92\, this year’s presentation features brand new songs\, stories and holiday tales that will put rosy smiles on young and old faces alike. \nSunday\, December 15th\, at 4 pm \nBuy Tickets
URL:https://skylinetheatrecompany.org/event/holiday-songs-and-stories/
LOCATION:The Oakeside Bloomfield Cultural Center\, 240 Belleville Ave\, Bloomfield\, NJ\, 07003\, United States
CATEGORIES:Program
ATTACH;FMTTYPE=image/jpeg:https://skylinetheatrecompany.org/wp-content/uploads/2024/01/HolidayArt_FINAL.jpg
END:VEVENT
BEGIN:VEVENT
DTSTART;TZID=America/New_York:20241027T160000
DTEND;TZID=America/New_York:20241027T163000
DTSTAMP:20260424T072035
CREATED:20240115T184502Z
LAST-MODIFIED:20240223T145256Z
UID:17517-1730044800-1730046600@skylinetheatrecompany.org
SUMMARY:Nightmare on Broadway
DESCRIPTION:Join us for a fa-BOO-lous afternoon with the family for a ghoulishly fun musical revue recognizing Broadway’s most thrilling and chilling showtunes and wickedly fun tales of the Halloween season. This year’s presentation builds on all the fun and spookiness from last year’s sold out show with brand new songs and stories. \nSunday\, October 27th\, at 4 pm \nBuy Tickets
URL:https://skylinetheatrecompany.org/event/nightmare-on-broadway/
LOCATION:The Oakeside Bloomfield Cultural Center\, 240 Belleville Ave\, Bloomfield\, NJ\, 07003\, United States
CATEGORIES:Program
ATTACH;FMTTYPE=image/jpeg:https://skylinetheatrecompany.org/wp-content/uploads/2024/01/nightmare.jpg
END:VEVENT
BEGIN:VEVENT
DTSTART;TZID=America/New_York:20240920T190000
DTEND;TZID=America/New_York:20240920T210000
DTSTAMP:20260424T072035
CREATED:20240115T181614Z
LAST-MODIFIED:20240304T204423Z
UID:17514-1726858800-1726866000@skylinetheatrecompany.org
SUMMARY:Popcorn Falls
DESCRIPTION:Expect cascades of laughter during this zany and charming play\, written by James Hindman\, featuring two actors playing more than twenty roles in a world of farce\, love and desperation. The sleepy town of Popcorn Falls is forced into bankruptcy when a neighboring town threatens to turn them into a sewage treatment plant. Their only hope: open a theater! The laugh-out-loud hysterics ultimately prove once and for all that art CAN save the world. \nFriday\, September 20\, at 7pm \nPLEASE NOTE THE VENUE CHANGE: Little Theatre \nBuy Tickets
URL:https://skylinetheatrecompany.org/event/popcorn-falls/
LOCATION:Little Theatre\, 90 Broad Street\, Bloomfield\, New Jersey\, 07003
CATEGORIES:Play
ATTACH;FMTTYPE=image/jpeg:https://skylinetheatrecompany.org/wp-content/uploads/2024/01/PopcornArt_FINAL.jpg
END:VEVENT
BEGIN:VEVENT
DTSTART;TZID=America/New_York:20240510T190000
DTEND;TZID=America/New_York:20240510T210000
DTSTAMP:20260424T072035
CREATED:20240115T181027Z
LAST-MODIFIED:20240223T145209Z
UID:17509-1715367600-1715374800@skylinetheatrecompany.org
SUMMARY:Broadway in Concert: The Broadway Musical "Baby"
DESCRIPTION:This sweet and touching musical from acclaimed duo\, Richard Maltby\, Jr.\, and David Shire\, examines how parents-to-be experience the emotional stresses and triumphs\, as well as the desperate lows and the comic highs that accompany the anticipation and arrival of a baby. Full of heart and joy\, this Tony Award nominated Best Musical will be presented in an Encores-like concert setting centered on three couples working their way towards parenthood under three VERY different sets of circumstances. \nFriday May 10\, at 7pm \nPLEASE NOTE THE CHANGE IN VENUE: The Little Theatre (Under the Bloomfield Children’s Library) \nBuy Tickets
URL:https://skylinetheatrecompany.org/event/broadway-in-concert/
LOCATION:Little Theatre\, 90 Broad Street\, Bloomfield\, New Jersey\, 07003
CATEGORIES:Reading
ATTACH;FMTTYPE=image/jpeg:https://skylinetheatrecompany.org/wp-content/uploads/2024/01/BabyArt.jpg
END:VEVENT
BEGIN:VEVENT
DTSTART;TZID=America/New_York:20240316T140000
DTEND;TZID=America/New_York:20240316T153000
DTSTAMP:20260424T072035
CREATED:20240115T155657Z
LAST-MODIFIED:20240223T145120Z
UID:17501-1710597600-1710603000@skylinetheatrecompany.org
SUMMARY:Reflections: Ireland in Song and Story
DESCRIPTION:Nationally renowned Irish Tenor Timothy Liam Smith paints a beautiful and stirring tapestry of Irish heritage through songs\, stories\, poems and jokes. You will discover what the Irish people really are like and what forms their unique character\, from family and love to religion and the Troubles. Join us for a Celtic journey through lore! \nBuy Tickets
URL:https://skylinetheatrecompany.org/event/reflections-ireland-in-song-and-story/
LOCATION:The Oakeside Bloomfield Cultural Center\, 240 Belleville Ave\, Bloomfield\, NJ\, 07003\, United States
CATEGORIES:Program
ATTACH;FMTTYPE=image/jpeg:https://skylinetheatrecompany.org/wp-content/uploads/2024/01/IrelandArt_Final.jpg
END:VEVENT
BEGIN:VEVENT
DTSTART;TZID=America/New_York:20240210T190000
DTEND;TZID=America/New_York:20240210T213000
DTSTAMP:20260424T072035
CREATED:20240115T145753Z
LAST-MODIFIED:20240124T000103Z
UID:17480-1707591600-1707600600@skylinetheatrecompany.org
SUMMARY:Love Letters
DESCRIPTION:February 10th\, 7 pm \nTwo-time Tony Award nominee Kate Baldwin and her real-life husband Broadway actor Graham Rowat co-star in this delightful and touching Pulitzer Prize finalist for Drama written by A.R. Gurney. Comprised of letters exchanged between two friends over a lifetime\, the characters read their letters to one another beginning in childhood and continuing through their individual marriages and careers. This evocative and frequently funny character study shows that what is implies is as revealing and affecting as what is written down. \nGeneral Admission: $25 \nPurchase a General Admission Ticket \nPurchase a Senior Ticket
URL:https://skylinetheatrecompany.org/event/love-letters/
LOCATION:The Oakeside Bloomfield Cultural Center\, 240 Belleville Ave\, Bloomfield\, NJ\, 07003\, United States
CATEGORIES:Fundraiser
ATTACH;FMTTYPE=image/jpeg:https://skylinetheatrecompany.org/wp-content/uploads/2024/01/SeasonArt_LoveLetters_FINAL.jpg
END:VEVENT
BEGIN:VEVENT
DTSTART;TZID=America/New_York:20231210T160000
DTEND;TZID=America/New_York:20231210T170000
DTSTAMP:20260424T072035
CREATED:20230310T000152Z
LAST-MODIFIED:20231127T171015Z
UID:17367-1702224000-1702227600@skylinetheatrecompany.org
SUMMARY:Holiday Carols and Stories
DESCRIPTION:Bring the whole family and join your community for a jolly fun and musical afternoon of sing alongs\, carols and holiday stories. Suitable for kids from 1 to 92! \nTickets range from $15-20. Purchase yours today!
URL:https://skylinetheatrecompany.org/event/holiday-carols-and-stories/
LOCATION:The Oakeside Bloomfield Cultural Center\, 240 Belleville Ave\, Bloomfield\, NJ\, 07003\, United States
CATEGORIES:Program
ATTACH;FMTTYPE=image/jpeg:https://skylinetheatrecompany.org/wp-content/uploads/2023/03/HolidayImage_web.jpg
END:VEVENT
BEGIN:VEVENT
DTSTART;TZID=America/New_York:20231029T160000
DTEND;TZID=America/New_York:20231029T173000
DTSTAMP:20260424T072035
CREATED:20230310T000137Z
LAST-MODIFIED:20231020T231615Z
UID:17365-1698595200-1698600600@skylinetheatrecompany.org
SUMMARY:A Nightmare on Broadway
DESCRIPTION:Book your tickets today! \nCome have a fa-BOO-lous afternoon with your family at our ghoulishly fun musical revue recognizing Broadway’s most thrilling and chilling showtunes and wickedly fun tales! Thrills and chills begin at 4 pm. \nTickets range from $15-20.
URL:https://skylinetheatrecompany.org/event/a-nightmare-on-broadway/
LOCATION:The Oakeside Bloomfield Cultural Center\, 240 Belleville Ave\, Bloomfield\, NJ\, 07003\, United States
CATEGORIES:Program
ATTACH;FMTTYPE=image/jpeg:https://skylinetheatrecompany.org/wp-content/uploads/2023/02/Nightmare_900.jpg
END:VEVENT
BEGIN:VEVENT
DTSTART;TZID=America/New_York:20230916T190000
DTEND;TZID=America/New_York:20230916T210000
DTSTAMP:20260424T072035
CREATED:20230310T000028Z
LAST-MODIFIED:20230920T002150Z
UID:17361-1694890800-1694898000@skylinetheatrecompany.org
SUMMARY:Broadway in Concert: Working the Musical
DESCRIPTION:Delight in Broadway’s musical celebration of the American worker in this NYC Encores-style concert featuring music by Stephen Schwartz\, James Taylor and Lin-Manuel Miranda. Join us at 7 pm for a grand ole time. \nTickets range from $20-25; book yours\, today!
URL:https://skylinetheatrecompany.org/event/broadway-in-concert-working-the-musical/
LOCATION:The Oakeside Bloomfield Cultural Center\, 240 Belleville Ave\, Bloomfield\, NJ\, 07003\, United States
CATEGORIES:Program
ATTACH;FMTTYPE=image/jpeg:https://skylinetheatrecompany.org/wp-content/uploads/2023/02/InConcert_900.jpg
END:VEVENT
BEGIN:VEVENT
DTSTART;VALUE=DATE:20230421
DTEND;VALUE=DATE:20230422
DTSTAMP:20260424T072035
CREATED:20230228T015456Z
LAST-MODIFIED:20230608T142349Z
UID:17349-1682035200-1682121599@skylinetheatrecompany.org
SUMMARY:Broadway In the Works
DESCRIPTION:This event is Sold Out! If you missed out on a seat\, we hope to welcome you at one of our future events. Please take a look at what is to come and join us if you can! \nExperience a heart-warming new musical in development before it crosses the Hudson with our staged reading of A Thousand Faces: The Lon Chaney Musical \nProud to provide FREE ADMISSION thanks to NJ Theatre Alliance’s Stages Festival. Seats are SOLD OUT.
URL:https://skylinetheatrecompany.org/event/broadway-in-the-works/
LOCATION:The Oakeside Bloomfield Cultural Center\, 240 Belleville Ave\, Bloomfield\, NJ\, 07003\, United States
CATEGORIES:Reading
ATTACH;FMTTYPE=image/jpeg:https://skylinetheatrecompany.org/wp-content/uploads/2023/02/Stages_soldoutsmall.jpg
END:VEVENT
BEGIN:VEVENT
DTSTART;VALUE=DATE:20220602
DTEND;VALUE=DATE:20220606
DTSTAMP:20260424T072035
CREATED:20220127T154858Z
LAST-MODIFIED:20220601T203338Z
UID:17257-1654128000-1654473599@skylinetheatrecompany.org
SUMMARY:Murder for Two
DESCRIPTION:Important Announcement: Show Canceled\nOur team has been hard at work on our production of Murder For Two – but unfortunately\, despite strict adherence to all required and recommended health and safety protocols\, we encountered a positive case of COVID-19 detected and confirmed today and we have no choice but to cancel this weekend’s performances. \nIf you have already pre-purchased tickets through Brown Paper Tickets or our website\, please look out for a separate email from us. \nDespite not being able to present this wonderful production to you\, some expenses have been incurred which cannot be reversed. Please consider a tax-free donation in support of Skyline Theatre Company which will go a long way to helping us pay our bills and cover our costs. \nWe know these continue to be uncertain times and it is clear that our new reality is full of unexpected challenges. We are sorry for our need to cancel\, but our priority to ensure the safety of our patrons\, artists\, staff and entire community remains front and center. \nMany thanks for your continued support of Skyline Theatre Company. \n\nMurder\, Mystery\, and Mayhem!\nLaugh and gawk at this dynamic duo\, starring Matthew McGloin and Broadway’s Gary Adler who bring a hilarious murder-mystery to life. Playing multiple characters and accompanying one another in the musical numbers\, they will have you thoroughly enjoying their caricatures and songs from the moment the curtain raises. \nRunning June 2nd – 5th\, 2022 \nThis program is made possible in part by a grant administered by the Bergen County Division of Historic and Cultural Affairs from funds granted by The New Jersey State Council on the Arts \nSponsored in part by funding from The New Jersey State Council of the Arts \nSponsored in part by local partners: New Bridge Medical Center\, BDP Plumbing\, Ashley Farms\, Mason & Company Landscaping and Pine Cone Chiropractic \n \n 
URL:https://skylinetheatrecompany.org/event/murder-for-two/
LOCATION:Fair Lawn Community Center/George Frey Center for Arts and Recreation\, 12-45 River Road\, #121\, Fair Lawn\, NJ\, 07410\, United States
CATEGORIES:Musical
ATTACH;FMTTYPE=image/jpeg:https://skylinetheatrecompany.org/wp-content/uploads/2022/01/final.jpg
END:VEVENT
BEGIN:VEVENT
DTSTART;VALUE=DATE:20220318
DTEND;VALUE=DATE:20220319
DTSTAMP:20260424T072035
CREATED:20220127T154911Z
LAST-MODIFIED:20220322T150314Z
UID:17253-1647561600-1647647999@skylinetheatrecompany.org
SUMMARY:Capri
DESCRIPTION:A place only love can take you\nWhat a pleasure it was to work with this amazing cast!\nJoin us for the free\, world premiere reading of an original musical: Capri! Every year\, Skyline Theatre Company has an open call for original musicals. In partnership with the Stages Festival\, Skyline offers emerging writers the opportunity to have their musical read by professional artists\, on stage\, for the first time. \nThis year’s musical\, Capri\, comes to us from Germaine Shames (Book and Lyrics)\, and Paul Scherer (Music). The story follows a schoolteacher\, desperate to save his dying wife\, who is drawn into a conspiracy to scam a family of recent Italian immigrants — the same family into which his only son hopes to marry. \nThe story\, based on its creator’s own family history\, addresses immigration\, healthcare\, economic and social inequities…issues which remain with us today. Yet\, where would we be without our dreamers? Fraught with moral dilemmas\, laced with humor\, and illumined by grace\, Capri reminds us that the best time to be alive is always now. \nMarch 18 at 7pm at the George Frey Center for Arts and Recreation \nFree and open to the public \nThis event is part of the New Jersey Theatre Alliance 2022 Stages Festival\, made possible by support from the New Jersey State Council on the Arts\, a partner agency of the National Endowment for the Arts; Bank of America; The Horizon Foundation for New Jersey; OceanFirst Foundation; New Jersey Historical Commission; and Fund for the New Jersey Blind. www.njtheatrealliance.org/stages \n \n 
URL:https://skylinetheatrecompany.org/event/capri/
LOCATION:Fair Lawn Community Center/George Frey Center for Arts and Recreation\, 12-45 River Road\, #121\, Fair Lawn\, NJ\, 07410\, United States
CATEGORIES:Reading
ATTACH;FMTTYPE=image/jpeg:https://skylinetheatrecompany.org/wp-content/uploads/2022/01/final_image.jpg
END:VEVENT
BEGIN:VEVENT
DTSTART;VALUE=DATE:20211207
DTEND;VALUE=DATE:20220103
DTSTAMP:20260424T072035
CREATED:20211207T143112Z
LAST-MODIFIED:20211207T151119Z
UID:17121-1638835200-1641167999@skylinetheatrecompany.org
SUMMARY:Celebrating You!
DESCRIPTION:Any tax-deductible donation to Skyline between now and January 2\, 2022 earns not only our heart-felt thanks but also a gift of theatre!\n\n\nYour donation of any amount will give you complimentary access through January 2022 to two recently livestreamed Skyline productions:\n\nOur 2020 Holiday Concert\nOur 2020 production of Laughing Wild\n\nYou can watch yourself or re-gift to your family and friends.\n\n\nDonate today to receive your gift!
URL:https://skylinetheatrecompany.org/event/celebrating-you/
LOCATION:NJ
CATEGORIES:Fundraiser
ATTACH;FMTTYPE=image/jpeg:https://skylinetheatrecompany.org/wp-content/uploads/2021/12/CelebratingYou.jpg
END:VEVENT
BEGIN:VEVENT
DTSTART;VALUE=DATE:20211007
DTEND;VALUE=DATE:20211011
DTSTAMP:20260424T072035
CREATED:20210610T032021Z
LAST-MODIFIED:20211005T232710Z
UID:16183-1633564800-1633910399@skylinetheatrecompany.org
SUMMARY:Little Women the Broadway Musical
DESCRIPTION:Based on Louisa May Alcott’s American classic\, this timeless story of love and family stands the test of time. A glorious musical filled with heartache\, hope and everlasting love. \nClick here to view the digital program. \nBuy Tickets
URL:https://skylinetheatrecompany.org/event/little-women-the-musical/
LOCATION:Fair Lawn Community Center/George Frey Center for Arts and Recreation\, 12-45 River Road\, #121\, Fair Lawn\, NJ\, 07410\, United States
CATEGORIES:Musical
ATTACH;FMTTYPE=image/png:https://skylinetheatrecompany.org/wp-content/uploads/2021/06/LWfront.png
END:VEVENT
BEGIN:VEVENT
DTSTART;VALUE=DATE:20210912
DTEND;VALUE=DATE:20210913
DTSTAMP:20260424T072035
CREATED:20210610T032623Z
LAST-MODIFIED:20210901T180752Z
UID:16185-1631404800-1631491199@skylinetheatrecompany.org
SUMMARY:Skyline’s 2021 Gala
DESCRIPTION:Buy Tickets
URL:https://skylinetheatrecompany.org/event/skylines-2021-gala/
LOCATION:Fair Lawn Community Center/George Frey Center for Arts and Recreation\, 12-45 River Road\, #121\, Fair Lawn\, NJ\, 07410\, United States
CATEGORIES:Program
ATTACH;FMTTYPE=image/jpeg:https://skylinetheatrecompany.org/wp-content/uploads/2021/06/FallGala_img-05.jpg
END:VEVENT
END:VCALENDAR