BEGIN:VCALENDAR
VERSION:2.0
PRODID:-//Skyline Theatre Company - ECPv6.13.2.1//NONSGML v1.0//EN
CALSCALE:GREGORIAN
METHOD:PUBLISH
X-ORIGINAL-URL:https://skylinetheatrecompany.org
X-WR-CALDESC:Events for Skyline Theatre Company
REFRESH-INTERVAL;VALUE=DURATION:PT1H
X-Robots-Tag:noindex
X-PUBLISHED-TTL:PT1H
BEGIN:VTIMEZONE
TZID:America/New_York
BEGIN:DAYLIGHT
TZOFFSETFROM:-0500
TZOFFSETTO:-0400
TZNAME:EDT
DTSTART:20250309T070000
END:DAYLIGHT
BEGIN:STANDARD
TZOFFSETFROM:-0400
TZOFFSETTO:-0500
TZNAME:EST
DTSTART:20251102T060000
END:STANDARD
BEGIN:DAYLIGHT
TZOFFSETFROM:-0500
TZOFFSETTO:-0400
TZNAME:EDT
DTSTART:20260308T070000
END:DAYLIGHT
BEGIN:STANDARD
TZOFFSETFROM:-0400
TZOFFSETTO:-0500
TZNAME:EST
DTSTART:20261101T060000
END:STANDARD
END:VTIMEZONE
BEGIN:VEVENT
DTSTART;TZID=America/New_York:20251019T000000
DTEND;TZID=America/New_York:20251019T235959
DTSTAMP:20260424T053535
CREATED:20250212T134648Z
LAST-MODIFIED:20250301T184927Z
UID:17711-1760832000-1760918399@skylinetheatrecompany.org
SUMMARY:Celebrating the American Songbook
DESCRIPTION:Celebrating the American Songbook featuring Michele McConnell & Duane McDevitt \nSunday October 19th @ 2:00                                                                                        \nBroadway singers Michele McConnell and Duane McDevitt return to the Skyline stage for a musical performance featuring some of the greatest tunes from the Great American Songbook. \nPurchase Tickets\n$25 general admission \n$20 seniors & students
URL:https://skylinetheatrecompany.org/event/celebrating-the-american-songbook/
LOCATION:The Oakeside Bloomfield Cultural Center\, 240 Belleville Ave\, Bloomfield\, NJ\, 07003\, United States
CATEGORIES:concert
ATTACH;FMTTYPE=image/png:https://skylinetheatrecompany.org/wp-content/uploads/2025/01/Celebrating-the-American-Songbook-logo.png
END:VEVENT
BEGIN:VEVENT
DTSTART;VALUE=DATE:20251213
DTEND;VALUE=DATE:20251222
DTSTAMP:20260424T053535
CREATED:20250212T134718Z
LAST-MODIFIED:20251106T203419Z
UID:17713-1765584000-1766361599@skylinetheatrecompany.org
SUMMARY:Joy Meets Girl\,  a holiday play by Kimberly Hill
DESCRIPTION:Joy Meets Girl \na holiday play by Kimberly Hill \nSaturday Dec. 13th @ 7:00 & Sunday Dec. 14th @ 2:00 \nSaturday Dec. 20th @ 7:00 & Sunday Dec. 21st @ 2:00 \nA world premiere production of a new holiday play that celebrates finding your true bliss among family and friends during this joyous season\, written by playwright Kimberly Hill of TV’s Cheers\, Family Ties\, and The Facts of Life. \nApproximate running time 90 minutes plus intermission \nPurchase Tickets\n$25 general admission \n$20 seniors & students \n 
URL:https://skylinetheatrecompany.org/event/joy-meets-girl-a-holiday-play-by-kimberly-hill/
LOCATION:The Oakeside Bloomfield Cultural Center\, 240 Belleville Ave\, Bloomfield\, NJ\, 07003\, United States
CATEGORIES:Play
ATTACH;FMTTYPE=image/png:https://skylinetheatrecompany.org/wp-content/uploads/2025/01/Joy-Meets-Girl-logo.png
END:VEVENT
BEGIN:VEVENT
DTSTART;TZID=America/New_York:20260321T190000
DTEND;TZID=America/New_York:20260322T140000
DTSTAMP:20260424T053535
CREATED:20260204T151159Z
LAST-MODIFIED:20260204T154840Z
UID:18086-1774119600-1774188000@skylinetheatrecompany.org
SUMMARY:Broadway in the Works - Unbelievable
DESCRIPTION:By Rachel DeVore Fogarty\, John DeVore & Kevin Fogarty \n\n\n\n\n\nA reading presentation of an original Broadway bound musical based on the inspiring true story of Jackie Mitchell\, a seventeen year old young woman who struck out Babe Ruth and Lou Gehrig on the same day. Did she really do it\, or was it just a stunt? It’s a legend surrounded by controversy. Jackie is an American original.
URL:https://skylinetheatrecompany.org/event/broadway-in-the-works-unbelievable/
LOCATION:The Oakeside Bloomfield Cultural Center\, 240 Belleville Ave\, Bloomfield\, NJ\, 07003\, United States
CATEGORIES:New Musical Presentation
ATTACH;FMTTYPE=image/png:https://skylinetheatrecompany.org/wp-content/uploads/2026/02/Broadway_in_the_Works_PADDED.png
END:VEVENT
BEGIN:VEVENT
DTSTART;TZID=America/New_York:20260516T190000
DTEND;TZID=America/New_York:20260516T213000
DTSTAMP:20260424T053535
CREATED:20260204T151807Z
LAST-MODIFIED:20260204T154749Z
UID:18093-1778958000-1778967000@skylinetheatrecompany.org
SUMMARY:Skyline's 25th Anniversary Gala
DESCRIPTION:Join us for an unforgettable evening celebrating 25 years of artistic excellence in New Jersey. This exclusive night featuring intimate live performances\, great food\, and a silent auction to support Skyline’s mission of engaging and entertaining New Jersey audiences.
URL:https://skylinetheatrecompany.org/event/skylines-25th-anniversary-gala/
LOCATION:The Oakeside Bloomfield Cultural Center\, 240 Belleville Ave\, Bloomfield\, NJ\, 07003\, United States
CATEGORIES:concert
ATTACH;FMTTYPE=image/png:https://skylinetheatrecompany.org/wp-content/uploads/2026/02/25th_Anniversary_Gala_PADDED.png
END:VEVENT
BEGIN:VEVENT
DTSTART;TZID=America/New_York:20260717T180000
DTEND;TZID=America/New_York:20260718T180000
DTSTAMP:20260424T053535
CREATED:20260204T152243Z
LAST-MODIFIED:20260204T154516Z
UID:18096-1784311200-1784397600@skylinetheatrecompany.org
SUMMARY:Shakespeare on the Porch - Much Ado About Nothing
DESCRIPTION:Love\, Lies\, and Laughter Under the Sunset! Bring a picnic and prepare for a night of sparkling wit\, romance\, and deception. Shakespeare’s ultimate rom-com\, Much Ado About Nothing\, comes to life on the porch of the Oakeside Mansion\, featuring a hilarious\, “merry war” of wits\, mixed with gossip and a touch of summer magic. Directed by David C. Neal.                        
URL:https://skylinetheatrecompany.org/event/shakespeare-on-the-porch-much-ado-about-nothing/
LOCATION:The Oakeside Bloomfield Cultural Center\, 240 Belleville Ave\, Bloomfield\, NJ\, 07003\, United States
CATEGORIES:Play
ATTACH;FMTTYPE=image/png:https://skylinetheatrecompany.org/wp-content/uploads/2026/02/Shakespeare_on_the_Porch_FIXED.png
END:VEVENT
BEGIN:VEVENT
DTSTART;TZID=America/New_York:20260911T190000
DTEND;TZID=America/New_York:20260912T140000
DTSTAMP:20260424T053535
CREATED:20260204T152623Z
LAST-MODIFIED:20260204T154310Z
UID:18098-1789153200-1789221600@skylinetheatrecompany.org
SUMMARY:The Guys by Anne Nelson
DESCRIPTION:September 12th @ 7:00 PM \n\n\n\nAs we honor the 25th anniversary of 9/11\, The Guys is a poignant\, true-story-inspired drama about a fire captain struggling to write eulogies for eight of his men lost in the collapse of the World Trade Center\, discovering the profound humanity behind ordinary heroes. Directed by David C. Neal.  \n\n\n\n(Recommended for 13 & older)
URL:https://skylinetheatrecompany.org/event/the-guys-by-anne-nelson/
LOCATION:The Oakeside Bloomfield Cultural Center\, 240 Belleville Ave\, Bloomfield\, NJ\, 07003\, United States
CATEGORIES:Play
ATTACH;FMTTYPE=image/png:https://skylinetheatrecompany.org/wp-content/uploads/2026/02/The_Guys_FIXED.png
END:VEVENT
BEGIN:VEVENT
DTSTART;TZID=America/New_York:20261206T140000
DTEND;TZID=America/New_York:20261206T140000
DTSTAMP:20260424T053535
CREATED:20260204T153238Z
LAST-MODIFIED:20260204T154634Z
UID:18104-1796565600-1796565600@skylinetheatrecompany.org
SUMMARY:Skyline's Cookie & Cocoa Cabaret
DESCRIPTION:Grab your favorite holiday sweater and join us for an afternoon of festive songs\, holiday cheer\, and a ‘build-your-own’ cocoa station featuring whipped cream\, sprinkles\, and the best cookies in town. A sweet treat for the whole family!      
URL:https://skylinetheatrecompany.org/event/skylines-cookie-cocoa-cabaret/
LOCATION:The Oakeside Bloomfield Cultural Center\, 240 Belleville Ave\, Bloomfield\, NJ\, 07003\, United States
CATEGORIES:concert,Musical
ATTACH;FMTTYPE=image/png:https://skylinetheatrecompany.org/wp-content/uploads/2026/02/Cookies_and_Cocoa_Cabaret_FULL_IMAGE.png
END:VEVENT
END:VCALENDAR