BEGIN:VCALENDAR
VERSION:2.0
PRODID:-//Skyline Theatre Company - ECPv6.13.2.1//NONSGML v1.0//EN
CALSCALE:GREGORIAN
METHOD:PUBLISH
X-WR-CALNAME:Skyline Theatre Company
X-ORIGINAL-URL:https://skylinetheatrecompany.org
X-WR-CALDESC:Events for Skyline Theatre Company
REFRESH-INTERVAL;VALUE=DURATION:PT1H
X-Robots-Tag:noindex
X-PUBLISHED-TTL:PT1H
BEGIN:VTIMEZONE
TZID:America/New_York
BEGIN:DAYLIGHT
TZOFFSETFROM:-0500
TZOFFSETTO:-0400
TZNAME:EDT
DTSTART:20240310T070000
END:DAYLIGHT
BEGIN:STANDARD
TZOFFSETFROM:-0400
TZOFFSETTO:-0500
TZNAME:EST
DTSTART:20241103T060000
END:STANDARD
END:VTIMEZONE
BEGIN:VEVENT
DTSTART;TZID=America/New_York:20241215T160000
DTEND;TZID=America/New_York:20241215T173000
DTSTAMP:20260424T225643
CREATED:20240115T184715Z
LAST-MODIFIED:20240223T145326Z
UID:17520-1734278400-1734283800@skylinetheatrecompany.org
SUMMARY:Holiday Songs and Stories
DESCRIPTION:The holiday season isn’t complete without a jolly fun and musical afternoon of sing-alongs\, carols\, and holiday stories. Suitable for kids from 1 to 92\, this year’s presentation features brand new songs\, stories and holiday tales that will put rosy smiles on young and old faces alike. \nSunday\, December 15th\, at 4 pm \nBuy Tickets
URL:https://skylinetheatrecompany.org/event/holiday-songs-and-stories/
LOCATION:The Oakeside Bloomfield Cultural Center\, 240 Belleville Ave\, Bloomfield\, NJ\, 07003\, United States
CATEGORIES:Program
ATTACH;FMTTYPE=image/jpeg:https://skylinetheatrecompany.org/wp-content/uploads/2024/01/HolidayArt_FINAL.jpg
END:VEVENT
END:VCALENDAR