BEGIN:VCALENDAR
VERSION:2.0
PRODID:-//Skyline Theatre Company - ECPv6.13.2.1//NONSGML v1.0//EN
CALSCALE:GREGORIAN
METHOD:PUBLISH
X-WR-CALNAME:Skyline Theatre Company
X-ORIGINAL-URL:https://skylinetheatrecompany.org
X-WR-CALDESC:Events for Skyline Theatre Company
REFRESH-INTERVAL;VALUE=DURATION:PT1H
X-Robots-Tag:noindex
X-PUBLISHED-TTL:PT1H
BEGIN:VTIMEZONE
TZID:America/New_York
BEGIN:DAYLIGHT
TZOFFSETFROM:-0500
TZOFFSETTO:-0400
TZNAME:EDT
DTSTART:20250309T070000
END:DAYLIGHT
BEGIN:STANDARD
TZOFFSETFROM:-0400
TZOFFSETTO:-0500
TZNAME:EST
DTSTART:20251102T060000
END:STANDARD
END:VTIMEZONE
BEGIN:VEVENT
DTSTART;VALUE=DATE:20250426
DTEND;VALUE=DATE:20250427
DTSTAMP:20260424T155137
CREATED:20250212T134528Z
LAST-MODIFIED:20250214T183356Z
UID:17705-1745625600-1745711999@skylinetheatrecompany.org
SUMMARY:The Tenors; A Tribute featuring Timothy Liam Smith
DESCRIPTION:The Tenors; A Tribute featuring Timothy Liam Smith \nInternationally renowned tenor Timothy Liam Smith performs everything from Broadway to Opera to the American Standards with a silvery voice akin to The Three Tenors and The Irish Tenors. \nSaturday April 26th @ 2pm \nPurchase Tickets\n$25 general admission \n$20 seniors and students
URL:https://skylinetheatrecompany.org/event/the-tenors-a-tribute-featuring-timothy-liam-smith/
LOCATION:The Oakeside Bloomfield Cultural Center\, 240 Belleville Ave\, Bloomfield\, NJ\, 07003\, United States
CATEGORIES:concert
ATTACH;FMTTYPE=image/png:https://skylinetheatrecompany.org/wp-content/uploads/2025/01/The-Tenors-a-Tribute-logo.png
END:VEVENT
END:VCALENDAR